BEGIN:VCALENDAR
VERSION:2.0
PRODID:-//Plone.org//NONSGML plone.app.event//EN
X-WR-TIMEZONE:Europe/Rome
BEGIN:VEVENT
SUMMARY:Un solo errore\, Bologna 2 agosto 1980
DTSTART;VALUE=DATE-TIME:20140801T190000Z
DTEND;VALUE=DATE-TIME:20140801T210000Z
DTSTAMP;VALUE=DATE-TIME:20260421T133643Z
UID:60f459900e88cf0bd808e3d2ec822930@127.0.0.1:8095
CONTACT:Associazione Pereira
CREATED;VALUE=DATE-TIME:20140729T114701Z
DESCRIPTION:Proiezione del documentario sulla strage alla stazione di Bolo
 gna\ne presentazione del cofanetto\, edizioni Cineteca di Bologna\, con al
 legato il booklet di Antonella Beccaria e Andrea Speranzoni\, prefazione d
 i Carlo Lucarelli
LAST-MODIFIED;VALUE=DATE-TIME:20150515T101552Z
LOCATION:Bologna\, Piazzetta Marco Biagi
URL:https://www.ausl.bologna.it/eventi/archivio/auslevent.2014-07-29.86008
 32955
END:VEVENT
END:VCALENDAR
