BEGIN:VCALENDAR
VERSION:2.0
PRODID:-//Plone.org//NONSGML plone.app.event//EN
X-WR-TIMEZONE:Europe/Rome
BEGIN:VEVENT
SUMMARY:A Crevalcore\, riaprono gli ambulatori di Neuropsichiatria del dis
 tretto Pianura Ovest
DTSTART;VALUE=DATE-TIME:20140718T150000Z
DTEND;VALUE=DATE-TIME:20140718T170000Z
DTSTAMP;VALUE=DATE-TIME:20260421T133645Z
UID:aa3e15cccff4e96252fb5d994755ce83@127.0.0.1:8095
CATEGORIES:Inaugurazione
CREATED;VALUE=DATE-TIME:20140715T122947Z
DESCRIPTION:Torna a Crevalcore\, alla sede originaria\, la Neuropsichiatri
 a Infantile che era stata trasferita in seguito al terremoto del 2012
LAST-MODIFIED;VALUE=DATE-TIME:20150515T101549Z
LOCATION:Crevalcore (BO) via Matteotti\, 29 (possibilità di ingresso anch
 e da via Trombelli)
URL:https://www.ausl.bologna.it/eventi/archivio/auslevent.2014-07-15.02648
 17743
END:VEVENT
END:VCALENDAR
