BEGIN:VCALENDAR
VERSION:2.0
PRODID:-//Plone.org//NONSGML plone.app.event//EN
X-WR-TIMEZONE:Europe/Rome
BEGIN:VEVENT
SUMMARY:Big data: promises and caveats in their use and re-use
DTSTART;VALUE=DATE-TIME:20140708T100000Z
DTEND;VALUE=DATE-TIME:20140708T120000Z
DTSTAMP;VALUE=DATE-TIME:20260421T133820Z
UID:f6d56a95f1a20ed307cbd654125f809b@127.0.0.1:8095
CATEGORIES:Conferenza
CONTACT:051/6366721\, dirscience@ior.it
CREATED;VALUE=DATE-TIME:20140707T130007Z
DESCRIPTION:Prof. J.P.A. Ioannidis - conferenza 
LAST-MODIFIED;VALUE=DATE-TIME:20150515T101546Z
LOCATION:Istituto di Ricerca Codivilla Putti\, Aula Magna - Via di Barbian
 o\, 1/10 - Bologna 
URL:https://www.ausl.bologna.it/eventi/archivio/auslevent.2014-07-07.55254
 94124
END:VEVENT
END:VCALENDAR
