BEGIN:VCALENDAR
VERSION:2.0
PRODID:-//Plone.org//NONSGML plone.app.event//EN
X-WR-TIMEZONE:Europe/Rome
BEGIN:VEVENT
SUMMARY:I ragazzi de Il Laboratorio dei Talenti 
DTSTART;VALUE=DATE-TIME:20140705T080000Z
DTEND;VALUE=DATE-TIME:20140705T100000Z
DTSTAMP;VALUE=DATE-TIME:20260420T150455Z
UID:aeb6f729bda08cb3b5ab36ae53ce3bf4@127.0.0.1:8095
CATEGORIES:mostra
CREATED;VALUE=DATE-TIME:20140702T120727Z
DESCRIPTION:Invito all'inaugurazione della Loro mostra "st-ART"
LAST-MODIFIED;VALUE=DATE-TIME:20150514T110324Z
LOCATION:Biblioteca Paolo Guidotti - Vergato (BO)
URL:https://www.ausl.bologna.it/eventi/archivio/auslevent.2014-07-02.63413
 14522
END:VEVENT
END:VCALENDAR
