BEGIN:VCALENDAR
VERSION:2.0
PRODID:-//Plone.org//NONSGML plone.app.event//EN
X-WR-TIMEZONE:Europe/Rome
BEGIN:VEVENT
SUMMARY:Quadri per una esposizione 
DTSTART;VALUE=DATE-TIME:20140630T160000Z
DTEND;VALUE=DATE-TIME:20140630T180000Z
DTSTAMP;VALUE=DATE-TIME:20260421T133801Z
UID:1f98c8ff4ef1c57ac8ec79889fc38fd3@127.0.0.1:8095
CATEGORIES:Invito
CONTACT:051 2751200
CREATED;VALUE=DATE-TIME:20140626T155213Z
DESCRIPTION:Cerimonia di riconsegna delle opere "Dante che parte per l'esi
 lio" di Andrea Besteghi e "Cristoforo Colombo" di Luigi Busi 
LAST-MODIFIED;VALUE=DATE-TIME:20150514T110321Z
LOCATION:Tribunale di Bologna\, Salone del Risorgimento\, Palazzo Legnani-
 Pizzardi\, Via Farini 1 - Bologna 
URL:https://www.ausl.bologna.it/eventi/archivio/auslevent.2014-06-26.59059
 89724
END:VEVENT
END:VCALENDAR
