BEGIN:VCALENDAR
VERSION:2.0
PRODID:-//Plone.org//NONSGML plone.app.event//EN
X-WR-TIMEZONE:Europe/Rome
BEGIN:VEVENT
SUMMARY:Verso l'accreditamento definitivo dei servizi socio-sanitari: un p
 ercorso condiviso 
DTSTART;VALUE=DATE-TIME:20140714T123000Z
DTEND;VALUE=DATE-TIME:20140714T160000Z
DTSTAMP;VALUE=DATE-TIME:20260421T133801Z
UID:ecdc1f152cf5ca2449d9cd767648d842@127.0.0.1:8095
CATEGORIES:Convegno
CREATED;VALUE=DATE-TIME:20140625T142545Z
DESCRIPTION:Convegno 
LAST-MODIFIED;VALUE=DATE-TIME:20150514T110320Z
LOCATION:Bologna - Regione Emilia-Romagna\, Sala Conferenze A\, Terza Torr
 e\, Viale della Fiera\, 8
URL:https://www.ausl.bologna.it/eventi/archivio/auslevent.2014-06-25.75386
 35812
END:VEVENT
END:VCALENDAR
