BEGIN:VCALENDAR
VERSION:2.0
PRODID:-//Plone.org//NONSGML plone.app.event//EN
X-WR-TIMEZONE:Europe/Rome
BEGIN:VEVENT
SUMMARY:Per stare bene\,impariamo a mangiar bene
DTSTART;VALUE=DATE-TIME:20140702T133000Z
DTEND;VALUE=DATE-TIME:20140702T163000Z
DTSTAMP;VALUE=DATE-TIME:20260421T133802Z
UID:fad5c36b13c07f135012392454dc7027@127.0.0.1:8095
CATEGORIES:Laboratorio di cucina
CONTACT:051 6584903
CREATED;VALUE=DATE-TIME:20140625T132946Z
DESCRIPTION:\n\n\n\n
LAST-MODIFIED;VALUE=DATE-TIME:20150514T110318Z
LOCATION:Casa della Salute di Budrio\, via Benni 44 - Budrio (BO)
URL:https://www.ausl.bologna.it/eventi/archivio/auslevent.2014-06-25.63179
 22302
END:VEVENT
END:VCALENDAR
