BEGIN:VCALENDAR
VERSION:2.0
PRODID:-//Plone.org//NONSGML plone.app.event//EN
X-WR-TIMEZONE:Europe/Rome
BEGIN:VEVENT
SUMMARY:Verso Europa 2020 - Counseling e Telepsicologia per la salute 
DTSTART;VALUE=DATE-TIME:20140630T120000Z
DTEND;VALUE=DATE-TIME:20140701T160000Z
DTSTAMP;VALUE=DATE-TIME:20260421T133801Z
UID:a3499260ec4539ccd8420919139fcc8d@127.0.0.1:8095
CATEGORIES:Workshop
CREATED;VALUE=DATE-TIME:20140623T154745Z
DESCRIPTION:Esperienze professionali a confronto tra centri di conuseling 
 e helpline 
LAST-MODIFIED;VALUE=DATE-TIME:20150514T110315Z
LOCATION:Firenze - Auditorium Sant'Apollonia - Via San Gallo\, 25 
URL:https://www.ausl.bologna.it/eventi/archivio/auslevent.2014-06-23.25007
 13776
END:VEVENT
END:VCALENDAR
