BEGIN:VCALENDAR
VERSION:2.0
PRODID:-//Plone.org//NONSGML plone.app.event//EN
X-WR-TIMEZONE:Europe/Rome
BEGIN:VEVENT
SUMMARY:Una guida e un sito web per scoprire il patrimonio storico e artis
 tico delle Aziende Sanitarie dell’Emilia Romagna
DTSTART;VALUE=DATE-TIME:20140610T093000Z
DTEND;VALUE=DATE-TIME:20140610T103000Z
DTSTAMP;VALUE=DATE-TIME:20260421T025911Z
UID:d1819ad3d2355892649bc02bf85567b5@127.0.0.1:8095
CATEGORIES:Conferenza stampa
CREATED;VALUE=DATE-TIME:20140609T130557Z
DESCRIPTION:Presentazione domani 10 giugno a Bologna\, presso l’Oratorio
  di Santa Maria della Vita
LAST-MODIFIED;VALUE=DATE-TIME:20150703T122635Z
LOCATION:Bologna\, Oratorio dei Battuti - Complesso Monumentale di Santa M
 aria della Vita
URL:https://www.ausl.bologna.it/eventi/archivio/auslevent.2014-06-09.93540
 44502
END:VEVENT
END:VCALENDAR
