BEGIN:VCALENDAR
VERSION:2.0
PRODID:-//Plone.org//NONSGML plone.app.event//EN
X-WR-TIMEZONE:Europe/Rome
BEGIN:VEVENT
SUMMARY:Nulla di più grande 
DTSTART;VALUE=DATE-TIME:20140603T183000Z
DTEND;VALUE=DATE-TIME:20140603T203000Z
DTSTAMP;VALUE=DATE-TIME:20260421T063237Z
UID:90fe16ca3e3fa28433e295a62cdb527f@127.0.0.1:8095
CATEGORIES:Presentazione libro
CREATED;VALUE=DATE-TIME:20140529T115451Z
DESCRIPTION:Presentazione del libro di Marcello Massimini e Giulio Tononi 
LAST-MODIFIED;VALUE=DATE-TIME:20150515T101535Z
LOCATION:Circolo Sersanti - P.zza Matteotti\, 8 Imola (BO)
URL:https://www.ausl.bologna.it/eventi/archivio/auslevent.2014-05-29.25430
 15241
END:VEVENT
END:VCALENDAR
