BEGIN:VCALENDAR
VERSION:2.0
PRODID:-//Plone.org//NONSGML plone.app.event//EN
X-WR-TIMEZONE:Europe/Rome
BEGIN:VEVENT
SUMMARY:La fragilità degli anziani
DTSTART;VALUE=DATE-TIME:20140529T103000Z
DTEND;VALUE=DATE-TIME:20140529T113000Z
DTSTAMP;VALUE=DATE-TIME:20260421T063309Z
UID:376a7d4ea8d8d81f2e870bc3d47bb10a@127.0.0.1:8095
CATEGORIES:Presentazione libro
CREATED;VALUE=DATE-TIME:20140521T090443Z
DESCRIPTION:Presentazione del libro a cura di Gabriele Cavazza e Cristina 
 Malvi
LAST-MODIFIED;VALUE=DATE-TIME:20150514T110310Z
LOCATION:Aula Cesari Centro Avis\, Donatori Sangue - Ospedale Maggiore Bol
 ogna
URL:https://www.ausl.bologna.it/eventi/archivio/auslevent.2014-05-21.44879
 63666
END:VEVENT
END:VCALENDAR
