BEGIN:VCALENDAR
VERSION:2.0
PRODID:-//Plone.org//NONSGML plone.app.event//EN
X-WR-TIMEZONE:Europe/Rome
BEGIN:VEVENT
SUMMARY:Fare RETE contro l'alcolismo 
DTSTART;VALUE=DATE-TIME:20140519T070000Z
DTEND;VALUE=DATE-TIME:20140519T110000Z
DTSTAMP;VALUE=DATE-TIME:20260421T063455Z
UID:913c7697f4c9f8d97e52cbf90d8d6f94@127.0.0.1:8095
CATEGORIES:Presentazione libro
CREATED;VALUE=DATE-TIME:20140505T152850Z
DESCRIPTION:Presentazione del volume "Gli utenti alcolisti della rete FICT
 \, analisi ed esperienze a confronto"
LAST-MODIFIED;VALUE=DATE-TIME:20150514T105942Z
LOCATION:Sala Marco Biagi Baraccano - Via S. Stefano 119 - Bologna 
URL:https://www.ausl.bologna.it/eventi/archivio/auslevent.2014-05-05.34999
 38537
END:VEVENT
END:VCALENDAR
