BEGIN:VCALENDAR
VERSION:2.0
PRODID:-//Plone.org//NONSGML plone.app.event//EN
X-WR-TIMEZONE:Europe/Rome
BEGIN:VEVENT
SUMMARY:Va dove ti porta il... trenino (sui binari della solidarietà)
DTSTART;VALUE=DATE-TIME:20140510T080000Z
DTEND;VALUE=DATE-TIME:20140511T160000Z
DTSTAMP;VALUE=DATE-TIME:20260420T150454Z
UID:e9ce581f823cf0d71c956dc011c35b93@127.0.0.1:8095
CATEGORIES:mostra
CREATED;VALUE=DATE-TIME:20140502T120016Z
DESCRIPTION:I plastici ferroviari e diorami della ASN. 
LAST-MODIFIED;VALUE=DATE-TIME:20150514T105940Z
LOCATION:Bologna - ex Ospedale degli Innocenti (dei Bastardini) - Via D'Az
 eglio 41
URL:https://www.ausl.bologna.it/eventi/archivio/auslevent.2014-05-02.76634
 53752
END:VEVENT
END:VCALENDAR
