BEGIN:VCALENDAR
VERSION:2.0
PRODID:-//Plone.org//NONSGML plone.app.event//EN
X-WR-TIMEZONE:Europe/Rome
BEGIN:VEVENT
SUMMARY:Day Surgery: Quale ruolo nella nuova Organizzazione della Sanità?
DTSTART;VALUE=DATE-TIME:20140514T120000Z
DTEND;VALUE=DATE-TIME:20140516T103000Z
DTSTAMP;VALUE=DATE-TIME:20260420T143305Z
UID:2b904455533fb990b0cfe192f8262d07@127.0.0.1:8095
CATEGORIES:congresso
CONTACT:Sema Communication SRL
CREATED;VALUE=DATE-TIME:20140407T150729Z
DESCRIPTION:XVIII Congresso Nazionale Società Italiana di Chirurgia ambul
 atoriale e Day surgery
LAST-MODIFIED;VALUE=DATE-TIME:20150514T105806Z
LOCATION:Rimini - Palacongressi 
URL:https://www.ausl.bologna.it/eventi/archivio/auslevent.2014-04-07.00943
 20523
END:VEVENT
END:VCALENDAR
