BEGIN:VCALENDAR
VERSION:2.0
PRODID:-//Plone.org//NONSGML plone.app.event//EN
X-WR-TIMEZONE:Europe/Rome
BEGIN:VEVENT
SUMMARY:Diventare genitori - L'arrivo di un figlio
DTSTART;VALUE=DATE-TIME:20141203T160000Z
DTEND;VALUE=DATE-TIME:20141203T180000Z
DTSTAMP;VALUE=DATE-TIME:20260421T115924Z
UID:67085217a2175e7f4469a94d0cd60a23@127.0.0.1:8095
CATEGORIES:Incontro
CREATED;VALUE=DATE-TIME:20140402T140006Z
DESCRIPTION:I ritmi\, l'adattamento e rispondere a tanti perché
LAST-MODIFIED;VALUE=DATE-TIME:20150305T135457Z
LOCATION:Sala Borsa Aula Biagi Piazza Nettuno\, 3 - Bologna
URL:https://www.ausl.bologna.it/eventi/archivio/auslevent.2014-04-02.64617
 36136
END:VEVENT
END:VCALENDAR
