BEGIN:VCALENDAR
VERSION:2.0
PRODID:-//Plone.org//NONSGML plone.app.event//EN
X-WR-TIMEZONE:Europe/Rome
BEGIN:VEVENT
SUMMARY:Diventare genitori - L'arrrivo di un figlio
DTSTART;VALUE=DATE-TIME:20141008T150000Z
DTEND;VALUE=DATE-TIME:20141008T170000Z
DTSTAMP;VALUE=DATE-TIME:20260421T115748Z
UID:9e25ab4f5298182789b42f369f5022cf@127.0.0.1:8095
ATTENDEE;CN="Incontri aperti e gratuiti con donne - coppie in attesa o con
  bambini nei primi mesi di vita";ROLE=REQ-PARTICIPANT:Incontri aperti e gr
 atuiti con donne - coppie in attesa o con bambini nei primi mesi di vita
CATEGORIES:Incontro
CREATED;VALUE=DATE-TIME:20140402T131823Z
DESCRIPTION:Travaglio-parto e controllo del dolore 
LAST-MODIFIED;VALUE=DATE-TIME:20150514T105800Z
LOCATION:Sala Borsa Aula Biagi Piazza Nettuno\, 3 - Bologna
URL:https://www.ausl.bologna.it/eventi/archivio/auslevent.2014-04-02.53132
 16849
END:VEVENT
END:VCALENDAR
