BEGIN:VCALENDAR
VERSION:2.0
PRODID:-//Plone.org//NONSGML plone.app.event//EN
X-WR-TIMEZONE:Europe/Rome
BEGIN:VEVENT
SUMMARY:Salute della donna e sicurezza di genere nei luoghi di lavoro 
DTSTART;VALUE=DATE-TIME:20140404T150000Z
DTEND;VALUE=DATE-TIME:20140404T170000Z
DTSTAMP;VALUE=DATE-TIME:20260421T115911Z
UID:163a93ef0d45139b72c12aa3c0dff560@127.0.0.1:8095
CATEGORIES:Conferenza
CREATED;VALUE=DATE-TIME:20140401T121539Z
DESCRIPTION:Conferenza pubblica 
LAST-MODIFIED;VALUE=DATE-TIME:20150514T105741Z
LOCATION:Bologna - Sala del Consiglio\, Palazzo Malvezzi Via Zamboni\, 13 
URL:https://www.ausl.bologna.it/eventi/archivio/auslevent.2014-04-01.28883
 73246
END:VEVENT
END:VCALENDAR
