BEGIN:VCALENDAR
VERSION:2.0
PRODID:-//Plone.org//NONSGML plone.app.event//EN
X-WR-TIMEZONE:Europe/Rome
BEGIN:VEVENT
SUMMARY:Ricordi di Francesco Rizzoli nel Museo di Anatomia Patologica e l'
 enigma della sua tragica morte 
DTSTART;VALUE=DATE-TIME:20140405T080000Z
DTEND;VALUE=DATE-TIME:20140405T100000Z
DTSTAMP;VALUE=DATE-TIME:20260421T120055Z
UID:9495a2c2b1474967bde3f0bcde4d64ea@127.0.0.1:8095
CATEGORIES:Incontro
CREATED;VALUE=DATE-TIME:20140331T124502Z
DESCRIPTION:Adunanza della Società Medica Chirurgica di Bologna
LAST-MODIFIED;VALUE=DATE-TIME:20150305T135514Z
LOCATION:Sala delle Adunanze - Archiginnasio\, Piazza Galvani\, 1 - Bologn
 a 
URL:https://www.ausl.bologna.it/eventi/archivio/auslevent.2014-03-31.61628
 30474
END:VEVENT
END:VCALENDAR
