BEGIN:VCALENDAR
VERSION:2.0
PRODID:-//Plone.org//NONSGML plone.app.event//EN
X-WR-TIMEZONE:Europe/Rome
BEGIN:VEVENT
SUMMARY:Buon Compleanno Casa della Salute!
DTSTART;VALUE=DATE-TIME:20140412T070000Z
DTEND;VALUE=DATE-TIME:20140412T140000Z
DTSTAMP;VALUE=DATE-TIME:20260421T115924Z
UID:b8f010032eb7f3522cfa0f19027fad24@127.0.0.1:8095
CATEGORIES:corso
CONTACT:Città di Sasso Marconi \, 800273218
CREATED;VALUE=DATE-TIME:20140331T115659Z
DESCRIPTION:Bimbi sani  - Sasso nel Cuore 
LAST-MODIFIED;VALUE=DATE-TIME:20150305T135511Z
LOCATION:Via Bertacchi\, 11 - Sasso Marconi (BO)
URL:https://www.ausl.bologna.it/eventi/archivio/auslevent.2014-03-31.58607
 97537
END:VEVENT
END:VCALENDAR
