BEGIN:VCALENDAR
VERSION:2.0
PRODID:-//Plone.org//NONSGML plone.app.event//EN
X-WR-TIMEZONE:Europe/Rome
BEGIN:VEVENT
SUMMARY:Stati generali della salute 
DTSTART;VALUE=DATE-TIME:20140408T090000Z
DTEND;VALUE=DATE-TIME:20140409T163000Z
DTSTAMP;VALUE=DATE-TIME:20260421T115928Z
UID:255abf0c7c4cc13bcc14c79e01ad2075@127.0.0.1:8095
CATEGORIES:Convegno
CONTACT:Sanità Futura\, 06/4885491\, SEGRETERIA@STATIGENERALIDELLASALUTE.
 IT
CREATED;VALUE=DATE-TIME:20140331T121250Z
DESCRIPTION:Il mondo della sanità si confronta sul futuro dell'organizzaz
 ione sanitaria\, il diritto alla salute\, la prevenzione\, la ricerca e la
  sicurezza agroalimentare 
LAST-MODIFIED;VALUE=DATE-TIME:20150305T135513Z
LOCATION:Roma - Auditorium Parco della Musica 
URL:https://www.ausl.bologna.it/eventi/archivio/auslevent.2014-03-31.38541
 04701
END:VEVENT
END:VCALENDAR
