BEGIN:VCALENDAR
VERSION:2.0
PRODID:-//Plone.org//NONSGML plone.app.event//EN
X-WR-TIMEZONE:Europe/Rome
BEGIN:VEVENT
SUMMARY:Il corpo aureo. La Via Crucis di Graziano Pompili 
DTSTART;VALUE=DATE-TIME:20140328T163000Z
DTEND;VALUE=DATE-TIME:20140328T183000Z
DTSTAMP;VALUE=DATE-TIME:20260420T150507Z
UID:71b036ea659b5796238c8f0255c1b876@127.0.0.1:8095
CATEGORIES:mostra
CONTACT:051/230260
CREATED;VALUE=DATE-TIME:20140327T164907Z
DESCRIPTION:Mostra a cura di Alberto Zanchetta
LAST-MODIFIED;VALUE=DATE-TIME:20150305T135508Z
LOCATION:Oratorio di santa Maria della Vita - Via Clavature\, 8 - Bologna 
URL:https://www.ausl.bologna.it/eventi/archivio/auslevent.2014-03-27.56591
 85947
END:VEVENT
END:VCALENDAR
