BEGIN:VCALENDAR
VERSION:2.0
PRODID:-//Plone.org//NONSGML plone.app.event//EN
X-WR-TIMEZONE:Europe/Rome
BEGIN:VEVENT
SUMMARY:La Scienza in Piazza. Food Immersion 
DTSTART;VALUE=DATE-TIME:20140328T150000Z
DTEND;VALUE=DATE-TIME:20140328T170000Z
DTSTAMP;VALUE=DATE-TIME:20260421T120106Z
UID:f8392e572257bc20874b16e6283b1b95@127.0.0.1:8095
CATEGORIES:Convegno,Ingresso libero fino a esaurimento posti disponibili
CREATED;VALUE=DATE-TIME:20140327T105738Z
DESCRIPTION:La festa della Scienza e della Cultura nella città di Bologna
  
LAST-MODIFIED;VALUE=DATE-TIME:20150305T135506Z
LOCATION:Sala Stabat Mater\, Biblioteca dell'Archiginnasio - Piazza Galvan
 i\, 1 Bologna 
URL:https://www.ausl.bologna.it/eventi/archivio/auslevent.2014-03-27.52719
 99937
END:VEVENT
END:VCALENDAR
