BEGIN:VCALENDAR
VERSION:2.0
PRODID:-//Plone.org//NONSGML plone.app.event//EN
X-WR-TIMEZONE:Europe/Rome
BEGIN:VEVENT
SUMMARY:Buon Compleanno Casa della Salute!
DTSTART;VALUE=DATE-TIME:20140329T083000Z
DTEND;VALUE=DATE-TIME:20140329T103000Z
DTSTAMP;VALUE=DATE-TIME:20260421T120020Z
UID:5805ba031635d95f2c66d2ee9bc64ebb@127.0.0.1:8095
CATEGORIES:Ricorrenza
CONTACT:800273218
CREATED;VALUE=DATE-TIME:20140327T134606Z
DESCRIPTION:La nostra Casa della Salute: dove siamo e dove vogliamo andare
  
LAST-MODIFIED;VALUE=DATE-TIME:20150305T135507Z
LOCATION:Via Bertacchi\, 11 - Sasso Marconi (BO)
URL:https://www.ausl.bologna.it/eventi/archivio/auslevent.2014-03-27.50768
 55755
END:VEVENT
END:VCALENDAR
