BEGIN:VCALENDAR
VERSION:2.0
PRODID:-//Plone.org//NONSGML plone.app.event//EN
X-WR-TIMEZONE:Europe/Rome
BEGIN:VEVENT
SUMMARY:Il percorso di Audit nelle Case Residenza per Anziani: risultati e
  riflessioni
DTSTART;VALUE=DATE-TIME:20140410T063000Z
DTEND;VALUE=DATE-TIME:20140410T110000Z
DTSTAMP;VALUE=DATE-TIME:20260421T115929Z
UID:5fe32cd49e985471edac4a756c8f438e@127.0.0.1:8095
ATTENDEE;CN="Il Seminario è rivolto agli operatori dei Servizi per Anzian
 i degli Enti Locali, dell'Azienda USL di Bologna, degli Enti Gestori accre
 ditati.";ROLE=REQ-PARTICIPANT:Il Seminario è rivolto agli operatori dei S
 ervizi per Anziani degli Enti Locali, dell'Azienda USL di Bologna, degli E
 nti Gestori accreditati.
CATEGORIES:Convegno
CONTACT:051 658 4871\, direzione.sociosanitaria@ausl.bologna.it
CREATED;VALUE=DATE-TIME:20140326T090515Z
DESCRIPTION:La Giornata presenta lo stato di avanzamento dei due audit att
 ualmente in svolgimento: gestione degli anziani con demenza ed applicazion
 e delle linee guida sulla nutrizione
LAST-MODIFIED;VALUE=DATE-TIME:20150305T135502Z
LOCATION:Padiglione "Tinozzi"\, Ospedale Bellaria - Bologna
URL:https://www.ausl.bologna.it/eventi/archivio/auslevent.2014-03-26.40065
 46348
END:VEVENT
END:VCALENDAR
