BEGIN:VCALENDAR
VERSION:2.0
PRODID:-//Plone.org//NONSGML plone.app.event//EN
X-WR-TIMEZONE:Europe/Rome
BEGIN:VEVENT
SUMMARY:L'individuo e il suo contesto 
DTSTART;VALUE=DATE-TIME:20140409T123000Z
DTEND;VALUE=DATE-TIME:20140409T163000Z
DTSTAMP;VALUE=DATE-TIME:20260421T103016Z
UID:ac50592d3aeb98411a2be1e09fc3ca99@127.0.0.1:8095
CONTACT:iess@ausl.bologna.it
CREATED;VALUE=DATE-TIME:20140325T135411Z
DESCRIPTION:L'importanza dell'etica e dell'equità nelle relazioni di cura
  in un contesto pluriculturale 
LAST-MODIFIED;VALUE=DATE-TIME:20150305T135456Z
LOCATION:Bologna - Aula Magna Ospedale Maggiore
URL:https://www.ausl.bologna.it/eventi/archivio/auslevent.2014-03-25.25703
 39803
END:VEVENT
END:VCALENDAR
