BEGIN:VCALENDAR
VERSION:2.0
PRODID:-//Plone.org//NONSGML plone.app.event//EN
X-WR-TIMEZONE:Europe/Rome
BEGIN:VEVENT
SUMMARY:L'individuo e il suo contesto
DTSTART;VALUE=DATE-TIME:20140415T123000Z
DTEND;VALUE=DATE-TIME:20140415T163000Z
DTSTAMP;VALUE=DATE-TIME:20260421T120055Z
UID:6e02158a35767c11ce28300dd1c98486@127.0.0.1:8095
CATEGORIES:seminario
CONTACT:iess@ausl.bologna.it
CREATED;VALUE=DATE-TIME:20140325T140522Z
DESCRIPTION:L'importanza dell'etica e dell'equità nelle relazioni di cura
  in un contesto pluriculturale 
LAST-MODIFIED;VALUE=DATE-TIME:20150305T135457Z
LOCATION:Bologna - Aula Magna Ospedale Maggiore
URL:https://www.ausl.bologna.it/eventi/archivio/auslevent.2014-03-25.05802
 98991
END:VEVENT
END:VCALENDAR
