BEGIN:VCALENDAR
VERSION:2.0
PRODID:-//Plone.org//NONSGML plone.app.event//EN
X-WR-TIMEZONE:Europe/Rome
BEGIN:VEVENT
SUMMARY:Gli Incidenti Stradali in Orario di Lavoro
DTSTART;VALUE=DATE-TIME:20140415T063000Z
DTEND;VALUE=DATE-TIME:20140415T113000Z
DTSTAMP;VALUE=DATE-TIME:20260421T102601Z
UID:4eb03d8922cf8e912fa66fda71c28dfb@127.0.0.1:8095
ATTENDEE;CN="L’iniziativa è rivolta agli operatori dei Dipartimenti Cur
 e Primarie, Salute Mentale, Sanità Pubblica;";ROLE=REQ-PARTICIPANT:L’in
 iziativa è rivolta agli operatori dei Dipartimenti Cure Primarie, Salute 
 Mentale, Sanità Pubblica;
ATTENDEE;CN="Dipartimento Amministrativo – Economato Logistica,";ROLE=RE
 Q-PARTICIPANT:Dipartimento Amministrativo – Economato Logistica,
ATTENDEE;CN="Distretti,";ROLE=REQ-PARTICIPANT:Distretti,
ATTENDEE;CN="Staff Direzione";ROLE=REQ-PARTICIPANT:Staff Direzione
CATEGORIES:corso
CONTACT:Daniela Guidetti\, 051/6813377\, daniela.guidetti@ausl.bologna.it
CREATED;VALUE=DATE-TIME:20140324T142114Z
LAST-MODIFIED;VALUE=DATE-TIME:20150305T135450Z
LOCATION:Sala Riunioni Piano terra  Ospedale di San Giovanni in Persiceto 
 Via Enzo Palma\, 1
URL:https://www.ausl.bologna.it/eventi/archivio/auslevent.2014-03-24.76428
 39720
END:VEVENT
END:VCALENDAR
