BEGIN:VCALENDAR
VERSION:2.0
PRODID:-//Plone.org//NONSGML plone.app.event//EN
X-WR-TIMEZONE:Europe/Rome
BEGIN:VEVENT
SUMMARY:Gli Incidenti Stradali in Orario di Lavoro
DTSTART;VALUE=DATE-TIME:20140401T063000Z
DTEND;VALUE=DATE-TIME:20140401T113000Z
DTSTAMP;VALUE=DATE-TIME:20260421T102813Z
UID:2bfb281bd0a16a99d265ea3ecb79dca9@127.0.0.1:8095
ATTENDEE;CN="L’iniziativa è rivolta agli operatori dei";ROLE=REQ-PARTIC
 IPANT:L’iniziativa è rivolta agli operatori dei
ATTENDEE;CN="Dipartimenti Cure Primarie, Salute";ROLE=REQ-PARTICIPANT:Dipa
 rtimenti Cure Primarie, Salute
ATTENDEE;CN="Mentale, Sanità Pubblica;";ROLE=REQ-PARTICIPANT:Mentale, San
 ità Pubblica;
ATTENDEE;CN="Dipartimento Amministrativo –";ROLE=REQ-PARTICIPANT:Diparti
 mento Amministrativo –
ATTENDEE;CN="Economato Logistica,";ROLE=REQ-PARTICIPANT:Economato Logistic
 a,
ATTENDEE;CN="Distretti,";ROLE=REQ-PARTICIPANT:Distretti,
ATTENDEE;CN="Staff Direzione";ROLE=REQ-PARTICIPANT:Staff Direzione
CATEGORIES:corso
CONTACT:Daniela Guidetti \, 051/6813377 \, daniela.guidetti@ausl.bologna.i
 t
CREATED;VALUE=DATE-TIME:20140324T141740Z
LAST-MODIFIED;VALUE=DATE-TIME:20150305T135449Z
LOCATION:Sala A – Via Cimarosa 5/2 Casalecchio di Reno
URL:https://www.ausl.bologna.it/eventi/archivio/auslevent.2014-03-24.32432
 92168
END:VEVENT
END:VCALENDAR
