BEGIN:VCALENDAR
VERSION:2.0
PRODID:-//Plone.org//NONSGML plone.app.event//EN
X-WR-TIMEZONE:Europe/Rome
BEGIN:VEVENT
SUMMARY:Esperienze di cure primarie: l'innovazione 2.0 nell'assistenza ter
 ritoriale
DTSTART;VALUE=DATE-TIME:20140331T073000Z
DTEND;VALUE=DATE-TIME:20140401T150000Z
DTSTAMP;VALUE=DATE-TIME:20260421T101851Z
UID:ded2fb48671290167bfefb254c15782e@127.0.0.1:8095
CATEGORIES:Convegno
CREATED;VALUE=DATE-TIME:20140321T141423Z
DESCRIPTION:Convegno regionale 
LAST-MODIFIED;VALUE=DATE-TIME:20150305T135445Z
LOCATION:Sala Conferenze\, Terza Torre\, Sala A viale della Fiera\, 8 - Bo
 logna 
URL:https://www.ausl.bologna.it/eventi/archivio/auslevent.2014-03-21.07797
 37336
END:VEVENT
END:VCALENDAR
