BEGIN:VCALENDAR
VERSION:2.0
PRODID:-//Plone.org//NONSGML plone.app.event//EN
X-WR-TIMEZONE:Europe/Rome
BEGIN:VEVENT
SUMMARY:Il consumo socialmente integrato di sostanze illegali. Danni\, pre
 cauzioni\, regole e mercato 
DTSTART;VALUE=DATE-TIME:20140415T150000Z
DTEND;VALUE=DATE-TIME:20140415T170000Z
DTSTAMP;VALUE=DATE-TIME:20260421T063238Z
UID:a92f0cf04ef31d1582d906f417cdceaf@127.0.0.1:8095
CATEGORIES:Presentazione libro
CONTACT:051 6584192
CREATED;VALUE=DATE-TIME:20140320T150206Z
DESCRIPTION:Presentazione del volume di Raimondo Maria Pavarin
LAST-MODIFIED;VALUE=DATE-TIME:20140612T130318Z
LOCATION:Bologna - Aula Magna\, Facoltà di Scienze della formazione\, Uni
 versità di Bologna - Via Filippo Re\, 6
URL:https://www.ausl.bologna.it/eventi/archivio/auslevent.2014-03-20.44014
 37962
END:VEVENT
END:VCALENDAR
