BEGIN:VCALENDAR
VERSION:2.0
PRODID:-//Plone.org//NONSGML plone.app.event//EN
X-WR-TIMEZONE:Europe/Rome
BEGIN:VEVENT
SUMMARY:Joint Action on Mental Health and Well-being: Managing the Evoluti
 on towards Community-based and Sociallly Inclusive Approaches in Mental He
 alth (Work Package 5) - Meeting di verifica intermedia dei partners associ
 ati 
DTSTART;VALUE=DATE-TIME:20140316T230000Z
DTEND;VALUE=DATE-TIME:20140317T230000Z
DTSTAMP;VALUE=DATE-TIME:20260423T102004Z
UID:5554a5833cdab223080eae75b4d20ae2@127.0.0.1:8095
ATTENDEE;CN="Riservato ai componenti del Work Package 5";ROLE=REQ-PARTICIP
 ANT:Riservato ai componenti del Work Package 5
CATEGORIES:Gruppo di lavoro
CONTACT:Angelo Fioritti\, direttore Dipartimento Salute Mentale e Dipenden
 ze Patologiche\, marisa.marchesini@ausl.bologna.it
CREATED;VALUE=DATE-TIME:20140317T121642Z
DESCRIPTION:Iniziativa della Commissione Europea 
LAST-MODIFIED;VALUE=DATE-TIME:20140612T130317Z
LOCATION:Azienda USL di Bologna - Bologna\, Viale Pepoli 5
URL:https://www.ausl.bologna.it/eventi/archivio/auslevent.2014-03-17.35696
 83422
END:VEVENT
END:VCALENDAR
