BEGIN:VCALENDAR
VERSION:2.0
PRODID:-//Plone.org//NONSGML plone.app.event//EN
X-WR-TIMEZONE:Europe/Rome
BEGIN:VEVENT
SUMMARY:In tre per la triplice 
DTSTART;VALUE=DATE-TIME:20140329T080000Z
DTEND;VALUE=DATE-TIME:20140329T153000Z
DTSTAMP;VALUE=DATE-TIME:20260421T102600Z
UID:44a34ec25ea08cff5b78fd052b40dd39@127.0.0.1:8095
CATEGORIES:Convegno
CONTACT:info@mitcongressi.it
CREATED;VALUE=DATE-TIME:20140312T123350Z
DESCRIPTION:Medico di Medicina Generale\, Medico Specialista e Paziente in
 sieme nella diagnosi e cura dell'epatite C
LAST-MODIFIED;VALUE=DATE-TIME:20140612T130316Z
LOCATION:Castello di Bentivoglio - Bentivoglio (BO)
URL:https://www.ausl.bologna.it/eventi/archivio/auslevent.2014-03-12.82174
 65322
END:VEVENT
END:VCALENDAR
