BEGIN:VCALENDAR
VERSION:2.0
PRODID:-//Plone.org//NONSGML plone.app.event//EN
X-WR-TIMEZONE:Europe/Rome
BEGIN:VEVENT
SUMMARY:Punto nascita di Bentivoglio 
DTSTART;VALUE=DATE-TIME:20141125T133000Z
DTEND;VALUE=DATE-TIME:20141125T153000Z
DTSTAMP;VALUE=DATE-TIME:20260423T103112Z
UID:a447d2933150b84faff43164e678f69a@127.0.0.1:8095
CATEGORIES:Incontro
CONTACT:051/6644008
CREATED;VALUE=DATE-TIME:20140310T164149Z
DESCRIPTION:Presentazione 
LAST-MODIFIED;VALUE=DATE-TIME:20140612T130315Z
LOCATION:Ospedale di Bentivoglio\, Aula Gialla - Bentivoglio (BO)
URL:https://www.ausl.bologna.it/eventi/archivio/auslevent.2014-03-10.62397
 30952
END:VEVENT
END:VCALENDAR
