BEGIN:VCALENDAR
VERSION:2.0
PRODID:-//Plone.org//NONSGML plone.app.event//EN
X-WR-TIMEZONE:Europe/Rome
BEGIN:VEVENT
SUMMARY:Vediamoci a Bologna 
DTSTART;VALUE=DATE-TIME:20140315T083000Z
DTEND;VALUE=DATE-TIME:20140315T163000Z
DTSTAMP;VALUE=DATE-TIME:20260423T102014Z
UID:7dad3ac54f044220d8b1a84f11d5c069@127.0.0.1:8095
ATTENDEE;CN="Il test è riservato alle persone maggiori di 4o anni.";ROLE=
 REQ-PARTICIPANT:Il test è riservato alle persone maggiori di 4o anni.
CATEGORIES:Screening
CREATED;VALUE=DATE-TIME:20140307T121615Z
DESCRIPTION:Fai il test per prevenire il glaucoma
LAST-MODIFIED;VALUE=DATE-TIME:20140612T130314Z
LOCATION:Bologna - Piazza Re Enzo
URL:https://www.ausl.bologna.it/eventi/archivio/auslevent.2014-03-07.81366
 23102
END:VEVENT
END:VCALENDAR
