BEGIN:VCALENDAR
VERSION:2.0
PRODID:-//Plone.org//NONSGML plone.app.event//EN
X-WR-TIMEZONE:Europe/Rome
BEGIN:VEVENT
SUMMARY:GIMBE Evidence for Health
DTSTART;VALUE=DATE-TIME:20140314T073000Z
DTEND;VALUE=DATE-TIME:20140314T160000Z
DTSTAMP;VALUE=DATE-TIME:20260421T102211Z
UID:7f9494994c0bbb6f446995362a06f367@127.0.0.1:8095
CATEGORIES:Conferenza
CONTACT:051/5883920\, info@gimbe.org
CREATED;VALUE=DATE-TIME:20140306T140331Z
DESCRIPTION:Evidenze e Innovazioni per la sostenibilità della Sanità Pub
 blica - \n9^ Conferenza Nazionale GIMBE
LAST-MODIFIED;VALUE=DATE-TIME:20140612T130312Z
LOCATION:Bologna\, Royal Hotel Carlton Via Montebello\, 8 
URL:https://www.ausl.bologna.it/eventi/archivio/auslevent.2014-03-06.25523
 63833
END:VEVENT
END:VCALENDAR
