BEGIN:VCALENDAR
VERSION:2.0
PRODID:-//Plone.org//NONSGML plone.app.event//EN
X-WR-TIMEZONE:Europe/Rome
BEGIN:VEVENT
SUMMARY:migranti e salute: le risorse della comunità
DTSTART;VALUE=DATE-TIME:20140409T070000Z
DTEND;VALUE=DATE-TIME:20140409T113000Z
DTSTAMP;VALUE=DATE-TIME:20260423T103129Z
UID:04674d7d8e91a59612a2c72de8376adf@127.0.0.1:8095
CATEGORIES:corso
CREATED;VALUE=DATE-TIME:20140306T142159Z
DESCRIPTION:l'esempio dei progetti di prevenzione degli incidenti domestic
 i
LAST-MODIFIED;VALUE=DATE-TIME:20140612T130313Z
LOCATION:Bologna - Aula Magna\, Regione Emilia-Romagna Viale A. Moro\, 30
URL:https://www.ausl.bologna.it/eventi/archivio/auslevent.2014-03-06.18816
 07765
END:VEVENT
END:VCALENDAR
