BEGIN:VCALENDAR
VERSION:2.0
PRODID:-//Plone.org//NONSGML plone.app.event//EN
X-WR-TIMEZONE:Europe/Rome
BEGIN:VEVENT
SUMMARY:Le patologie end stage nella pratica clinica 
DTSTART;VALUE=DATE-TIME:20140329T091500Z
DTEND;VALUE=DATE-TIME:20140329T153000Z
DTSTAMP;VALUE=DATE-TIME:20260423T102005Z
UID:52bbaa91e2e46c14f43eae13b4a032a2@127.0.0.1:8095
CONTACT:051/230385\, info@noemacongressi.it
CREATED;VALUE=DATE-TIME:20140306T143305Z
DESCRIPTION:Come integrare discipline e professioni tra rianimazione e cur
 e palliative 
LAST-MODIFIED;VALUE=DATE-TIME:20150305T135442Z
LOCATION:Ospedale Maggiore\, Largo Nigrisoli 2 - Bologna 
URL:https://www.ausl.bologna.it/eventi/archivio/auslevent.2014-03-06.02183
 23208
END:VEVENT
END:VCALENDAR
