BEGIN:VCALENDAR
VERSION:2.0
PRODID:-//Plone.org//NONSGML plone.app.event//EN
X-WR-TIMEZONE:Europe/Rome
BEGIN:VEVENT
SUMMARY:La Sanità nelle riforme 
DTSTART;VALUE=DATE-TIME:20140308T090000Z
DTEND;VALUE=DATE-TIME:20140308T110000Z
DTSTAMP;VALUE=DATE-TIME:20260421T102404Z
UID:07de80e38facf2efb4668a1bc9ecf550@127.0.0.1:8095
CATEGORIES:Convegno
CONTACT:info@medchir.bo.it
CREATED;VALUE=DATE-TIME:20140304T125936Z
DESCRIPTION:Riflessioni 
LAST-MODIFIED;VALUE=DATE-TIME:20140612T130311Z
LOCATION:Palazzo dell'Archiginnasio\, Piazza Galvani 1 - Bologna 
URL:https://www.ausl.bologna.it/eventi/archivio/auslevent.2014-03-04.80690
 53447
END:VEVENT
END:VCALENDAR
