BEGIN:VCALENDAR
VERSION:2.0
PRODID:-//Plone.org//NONSGML plone.app.event//EN
X-WR-TIMEZONE:Europe/Rome
BEGIN:VEVENT
SUMMARY:La sostenibilità dell'OPEN ACCESS: quale scenario per il futuro?
DTSTART;VALUE=DATE-TIME:20140325T133000Z
DTEND;VALUE=DATE-TIME:20140325T173000Z
DTSTAMP;VALUE=DATE-TIME:20260421T101856Z
UID:c37c4b470392650a742e2a3526207a4e@127.0.0.1:8095
CATEGORIES:Convegno
CONTACT:0532/236257\, biblioteca@ospfe.it
CREATED;VALUE=DATE-TIME:20140228T140111Z
DESCRIPTION:Convegno 
LAST-MODIFIED;VALUE=DATE-TIME:20140612T130308Z
LOCATION:Azienda Ospedaliero-Universitaria di Ferrara\, Via Aldo Moro\, 8 
 - Cona (FE)
URL:https://www.ausl.bologna.it/eventi/archivio/auslevent.2014-02-28.81612
 95557
END:VEVENT
END:VCALENDAR
