BEGIN:VCALENDAR
VERSION:2.0
PRODID:-//Plone.org//NONSGML plone.app.event//EN
X-WR-TIMEZONE:Europe/Rome
BEGIN:VEVENT
SUMMARY:Diventare Genitori - l'arrivo di un figlio
DTSTART;VALUE=DATE-TIME:20140521T150000Z
DTEND;VALUE=DATE-TIME:20140521T170000Z
DTSTAMP;VALUE=DATE-TIME:20260421T102436Z
UID:0f6b2aa6dcd16da897c7c41fded6ae33@127.0.0.1:8095
CATEGORIES:Incontro
CREATED;VALUE=DATE-TIME:20140225T122053Z
DESCRIPTION:Allattamento-attaccamento-prima relazione 
LAST-MODIFIED;VALUE=DATE-TIME:20140612T130305Z
LOCATION:Sala Borsa\, aula Biagi - Piazza Nettuno\, 3 - Bologna
URL:https://www.ausl.bologna.it/eventi/archivio/auslevent.2014-02-25.68035
 13044
END:VEVENT
END:VCALENDAR
