BEGIN:VCALENDAR
VERSION:2.0
PRODID:-//Plone.org//NONSGML plone.app.event//EN
X-WR-TIMEZONE:Europe/Rome
BEGIN:VEVENT
SUMMARY:Diventare Genitori - l'arrivo di un figlio
DTSTART;VALUE=DATE-TIME:20140528T150000Z
DTEND;VALUE=DATE-TIME:20140528T170000Z
DTSTAMP;VALUE=DATE-TIME:20260421T102813Z
UID:72643834ab0cc807765542f5562d2297@127.0.0.1:8095
CATEGORIES:Incontro
CREATED;VALUE=DATE-TIME:20140225T123646Z
DESCRIPTION:Allattare? Si\, ma come suggerimenti\, tecniche ed ausilii per
  allattare con successo
LAST-MODIFIED;VALUE=DATE-TIME:20140612T130306Z
LOCATION:Sala Borsa\, aula Biagi - Piazza Nettuno\, 3 - Bologna
URL:https://www.ausl.bologna.it/eventi/archivio/auslevent.2014-02-25.64604
 79684
END:VEVENT
END:VCALENDAR
