BEGIN:VCALENDAR
VERSION:2.0
PRODID:-//Plone.org//NONSGML plone.app.event//EN
X-WR-TIMEZONE:Europe/Rome
BEGIN:VEVENT
SUMMARY:Diventare Genitori - l'arrivo di un figlio
DTSTART;VALUE=DATE-TIME:20140507T150000Z
DTEND;VALUE=DATE-TIME:20140507T170000Z
DTSTAMP;VALUE=DATE-TIME:20260421T102620Z
UID:38d7e4693ac16074f88cde42379d61e1@127.0.0.1:8095
CATEGORIES:Incontro
CREATED;VALUE=DATE-TIME:20140225T121624Z
DESCRIPTION:Mai troppo piccoli per la lettura 
LAST-MODIFIED;VALUE=DATE-TIME:20140612T130304Z
LOCATION:Sala Borsa\, Biblioteca Ragazzi - Piazza Nettuno\, 3 - Bologna
URL:https://www.ausl.bologna.it/eventi/archivio/auslevent.2014-02-25.48062
 65275
END:VEVENT
END:VCALENDAR
