BEGIN:VCALENDAR
VERSION:2.0
PRODID:-//Plone.org//NONSGML plone.app.event//EN
X-WR-TIMEZONE:Europe/Rome
BEGIN:VEVENT
SUMMARY:Diventare Genitori - l'arrivo di un figlio
DTSTART;VALUE=DATE-TIME:20140604T150000Z
DTEND;VALUE=DATE-TIME:20140604T170000Z
DTSTAMP;VALUE=DATE-TIME:20260421T101809Z
UID:f05805ee3459958173732975c010ff0d@127.0.0.1:8095
CATEGORIES:Incontro
CREATED;VALUE=DATE-TIME:20140225T124641Z
DESCRIPTION:I ritmi e l'adattamento e rispondere a tanti perché
LAST-MODIFIED;VALUE=DATE-TIME:20140612T130306Z
LOCATION:Sala Borsa\, aula Biagi - Piazza Nettuno\, 3 - Bologna
URL:https://www.ausl.bologna.it/eventi/archivio/auslevent.2014-02-25.16603
 93018
END:VEVENT
END:VCALENDAR
