BEGIN:VCALENDAR
VERSION:2.0
PRODID:-//Plone.org//NONSGML plone.app.event//EN
X-WR-TIMEZONE:Europe/Rome
BEGIN:VEVENT
SUMMARY:Centro Dialisi dell'ospedale di San Giovanni in Persiceto
DTSTART;VALUE=DATE-TIME:20140222T100000Z
DTEND;VALUE=DATE-TIME:20140222T120000Z
DTSTAMP;VALUE=DATE-TIME:20260421T102436Z
UID:5639e98b3751dc0b074d208d479925d8@127.0.0.1:8095
CATEGORIES:Inaugurazione
CREATED;VALUE=DATE-TIME:20140219T112411Z
DESCRIPTION:Inaugurazione\, sabato 22 febbraio ore 11
LAST-MODIFIED;VALUE=DATE-TIME:20150703T125659Z
LOCATION:Via E. Palma\, 1 - San Giovanni in Persiceto (BO)
URL:https://www.ausl.bologna.it/eventi/archivio/auslevent.2014-02-19.41423
 71197
END:VEVENT
END:VCALENDAR
