BEGIN:VCALENDAR
VERSION:2.0
PRODID:-//Plone.org//NONSGML plone.app.event//EN
X-WR-TIMEZONE:Europe/Rome
BEGIN:VEVENT
SUMMARY:La prescrizione dei farmaci off-label in Emilia-Romagna: norme\, d
 ati e riflessioni 
DTSTART;VALUE=DATE-TIME:20140314T080000Z
DTEND;VALUE=DATE-TIME:20140314T153000Z
DTSTAMP;VALUE=DATE-TIME:20260423T103129Z
UID:4ab22db4dd033db3468b141622873928@127.0.0.1:8095
ATTENDEE;CN="Il seminario è rivolto ai medici e ai farmacisti che operano
  nelle Aziende Sanitarie e Istituti di Ricovero e Cura a carattere scienti
 fico dell’Emilia-Romagna.";ROLE=REQ-PARTICIPANT:Il seminario è rivolto 
 ai medici e ai farmacisti che operano nelle Aziende Sanitarie e Istituti d
 i Ricovero e Cura a carattere scientifico dell’Emilia-Romagna.
CATEGORIES:Convegno
CONTACT:0541/705123
CREATED;VALUE=DATE-TIME:20140218T121551Z
DESCRIPTION:Convegno 
LAST-MODIFIED;VALUE=DATE-TIME:20150703T125658Z
LOCATION:Centro Congressi SGR Via Gabriello Chiabrera\, 34 - Rimiini
URL:https://www.ausl.bologna.it/eventi/archivio/auslevent.2014-02-18.74142
 99159
END:VEVENT
END:VCALENDAR
