BEGIN:VCALENDAR
VERSION:2.0
PRODID:-//Plone.org//NONSGML plone.app.event//EN
X-WR-TIMEZONE:Europe/Rome
BEGIN:VEVENT
SUMMARY:Fiducia e Capitale Sociale nelle Aziende Sanitarie 
DTSTART;VALUE=DATE-TIME:20140307T073000Z
DTEND;VALUE=DATE-TIME:20140307T160000Z
DTSTAMP;VALUE=DATE-TIME:20260421T101855Z
UID:d948e70f28bd386a18ef2f509717776f@127.0.0.1:8095
CATEGORIES:Convegno
CONTACT:051/5273205-3644 - 051/6597122
CREATED;VALUE=DATE-TIME:20140217T145750Z
DESCRIPTION:Esperienze e opinioni a confronto 
LAST-MODIFIED;VALUE=DATE-TIME:20140612T130303Z
LOCATION:Sala Poggioli\, Terza torre - Regione Emilia-Romagna\, viale dell
 a Fiera\, 8 - Bologna
URL:https://www.ausl.bologna.it/eventi/archivio/auslevent.2014-02-17.79984
 51089
END:VEVENT
END:VCALENDAR
