BEGIN:VCALENDAR
VERSION:2.0
PRODID:-//Plone.org//NONSGML plone.app.event//EN
X-WR-TIMEZONE:Europe/Rome
BEGIN:VEVENT
SUMMARY:Diventare Genitori - l'arrivo di un figlio
DTSTART;VALUE=DATE-TIME:20140402T150000Z
DTEND;VALUE=DATE-TIME:20140402T170000Z
DTSTAMP;VALUE=DATE-TIME:20260421T102432Z
UID:bc5ecb8b0abb25492203af24e9a2ac94@127.0.0.1:8095
CATEGORIES:Incontro
CREATED;VALUE=DATE-TIME:20140214T160122Z
DESCRIPTION:Travaglio-parto e controllo del dolore 
LAST-MODIFIED;VALUE=DATE-TIME:20150703T125652Z
LOCATION:Sala Borsa\, aula Biagi - Piazza Nettuno\, 3 - Bologna
URL:https://www.ausl.bologna.it/eventi/archivio/auslevent.2014-02-14.51327
 74330
END:VEVENT
END:VCALENDAR
