BEGIN:VCALENDAR
VERSION:2.0
PRODID:-//Plone.org//NONSGML plone.app.event//EN
X-WR-TIMEZONE:Europe/Rome
BEGIN:VEVENT
SUMMARY:Diventare Genitori - l'arrivo di un figlio 
DTSTART;VALUE=DATE-TIME:20140219T160000Z
DTEND;VALUE=DATE-TIME:20140219T180000Z
DTSTAMP;VALUE=DATE-TIME:20260421T101942Z
UID:2fbc558cbca22b575d8ecb6c086c93df@127.0.0.1:8095
CATEGORIES:Incontro
CREATED;VALUE=DATE-TIME:20140214T150947Z
DESCRIPTION:L'assistenza della gravidanza 
LAST-MODIFIED;VALUE=DATE-TIME:20150703T124909Z
LOCATION:Sala Borsa\, aula Biagi - Piazza Nettuno\, 3 - Bologna 
URL:https://www.ausl.bologna.it/eventi/archivio/auslevent.2014-02-14.22415
 61874
END:VEVENT
END:VCALENDAR
