BEGIN:VCALENDAR
VERSION:2.0
PRODID:-//Plone.org//NONSGML plone.app.event//EN
X-WR-TIMEZONE:Europe/Rome
BEGIN:VEVENT
SUMMARY:Punto nascita di Bentivoglio
DTSTART;VALUE=DATE-TIME:20141028T133000Z
DTEND;VALUE=DATE-TIME:20141028T153000Z
DTSTAMP;VALUE=DATE-TIME:20260423T103131Z
UID:12de9f5250a76a9f6a5af20e605cd590@127.0.0.1:8095
CATEGORIES:Incontro
CONTACT:051/6644008
CREATED;VALUE=DATE-TIME:20140213T145553Z
DESCRIPTION:Presentazione 
LAST-MODIFIED;VALUE=DATE-TIME:20150703T124904Z
LOCATION:Ospedale di Bentivoglio\, Aula Gialla - Bentivoglio (BO)
URL:https://www.ausl.bologna.it/eventi/archivio/auslevent.2014-02-13.88921
 76424
END:VEVENT
END:VCALENDAR
