BEGIN:VCALENDAR
VERSION:2.0
PRODID:-//Plone.org//NONSGML plone.app.event//EN
X-WR-TIMEZONE:Europe/Rome
BEGIN:VEVENT
SUMMARY:Punto nascita di Bentivoglio 
DTSTART;VALUE=DATE-TIME:20140924T123000Z
DTEND;VALUE=DATE-TIME:20140924T143000Z
DTSTAMP;VALUE=DATE-TIME:20260421T103016Z
UID:02d6b84e4b242d388b9c1d448dacabe2@127.0.0.1:8095
CATEGORIES:Incontro
CONTACT:051/6644008
CREATED;VALUE=DATE-TIME:20140213T142646Z
DESCRIPTION:Presentazione
LAST-MODIFIED;VALUE=DATE-TIME:20150305T135434Z
LOCATION:Ospedale di Bentivoglio\, Aula Gialla - Bentivoglio (BO)
URL:https://www.ausl.bologna.it/eventi/archivio/auslevent.2014-02-13.33482
 78998
END:VEVENT
END:VCALENDAR
